BEGIN:VCALENDAR
VERSION:2.0
PRODID:-//La Cascina Cornaredo - ECPv6.0.4//NONSGML v1.0//EN
CALSCALE:GREGORIAN
METHOD:PUBLISH
X-WR-CALNAME:La Cascina Cornaredo
X-ORIGINAL-URL:https://lacascinacornaredo.it
X-WR-CALDESC:Events for La Cascina Cornaredo
REFRESH-INTERVAL;VALUE=DURATION:PT1H
X-Robots-Tag:noindex
X-PUBLISHED-TTL:PT1H
BEGIN:VTIMEZONE
TZID:UTC
BEGIN:STANDARD
TZOFFSETFROM:+0000
TZOFFSETTO:+0000
TZNAME:UTC
DTSTART:20260101T000000
END:STANDARD
END:VTIMEZONE
BEGIN:VEVENT
DTSTART;TZID=UTC:20260418T100000
DTEND;TZID=UTC:20260419T180000
DTSTAMP:20260419T152044
CREATED:20260317T092902Z
LAST-MODIFIED:20260317T092902Z
UID:2972-1776506400-1776621600@lacascinacornaredo.it
SUMMARY:PICNIC CAMPESTRI
DESCRIPTION:PICNIC CAMPESTRI 🧺 \nPrenota il TUO PICNIC e vivi un’esperienza trascorrendo una giornata in FATTORIA\, tutto si svolgerà in CAMPAGNA\, in un atmosfera unica\, tra i ALBERI DI CILIEGIO\, ALBERI DI ALBICOCCHE e LA NATURA CHE CI CIRCONDA!!! \nTrascorri  una bella giornata TUTTI FUORI all’aria aperta!!! \n🧺 Prenota il tuo cestino con prodotti genuini\, stagionali ed ecosostenibili da gustare \n📍 Dove ci trovi?\nVia Brughiera 51\, Cornaredo \n🔗 Info & Prenotazioni:\n📲 Seguici su Instagram e Facebook @lacascinacornaredo\n📩 Scrivici a ordini@lacascinacornaredo.it\n📞 Chiama o manda un WhatsApp al 349-6086848 \n📲 Scopri tutte le proposte nella sezione SHOP del sito:\n👉 www.lacascinacornaredo.it \nUn angolo di bellezza e tranquillità\, tutto da vivere.… ti aspettiamo in campagna! \n Prenota il tuo Picnic\, scrivi su ordini@lacascinacornaredo.it oppure su WhatsApp indicando nome cognome recapito quante persone siete  e giorno d’interesse\, le date disponibili sono sulla sezione Eventi \nvisita il sito www.lacascinacornaredo.it \, nella sezione SHOP troverai le proposte cestini\, fai la tua scelta e inviaci il tuo preordine ENTRO GIOVEDI’ MATTINA\, per i LAST MINUTES\, si prega TELEFONARE 349/6086848 \nLA PRENOTAZIONE SARA’ CONFERMATA SE RICEVERAI UN QR-CODE CON LA POSIZIONE PER RAGGIUNGERCI E IL NOSTRO CONIGLIO CON ALCUNE INDICAZIONI PER SVOLGERE IL VOSTRO PICNIC… \nseguici sui social @lacascinacornaredo per rimanere aggiornato sulle nostre attività \n  \n 
URL:https://lacascinacornaredo.it/evento/picnic-campestri-12/
ATTACH;FMTTYPE=image/jpeg:https://lacascinacornaredo.it/wp-content/uploads/2025/05/Immagine-WhatsApp-2025-07-29-ore-16.57.45_bb8e2e3b.jpg
END:VEVENT
BEGIN:VEVENT
DTSTART;TZID=UTC:20260419T110000
DTEND;TZID=UTC:20260419T120000
DTSTAMP:20260419T152044
CREATED:20260317T091432Z
LAST-MODIFIED:20260410T151502Z
UID:2953-1776596400-1776600000@lacascinacornaredo.it
SUMMARY:FATTORIA DIDATTICA- ORTO FELICE
DESCRIPTION:🌿 La Cascina Cornaredo – Azienda Agricola Santoro 🥦 \n📍 A due passi da Milano\, ti aspetta un luogo magico dove natura\, animali e tradizione si incontrano!\n👩‍🏫 Perfetto per scuole e famiglie\, offriamo esperienze educative uniche per scoprire il mondo rurale:\n✅ Visite guidate\n✅ Laboratori creativi e interattivi\n✅ Contatto diretto con gli animali della fattoria \nSABATO DALLE 15.30/16.30 ATTIVITA’ E MERENDA INCLUSI 20 EURO A BAMBINO \nDOMENICA DALLE 11.00/12.00 ATTIVITA’ E PICNIC PRANZO INCLUSI 25 EURO A BAMBINO \nGli accompagnatori se vorranno fermarsi a fare il Picnic con i bambini potranno scegliere il loro cestino nella sezione shop del sito cliccando la fascia d’interesse e indicare la scelta al momento della prenotazione dell’attività dei bambini su W.A. 349/6086848\, la prenotazione verrà confermata dal momento che riceverete QR-CODE e REGOLAMENTO FATTORIA. \n🎉 Vivi una giornata indimenticabile immerso nella natura! \n📅 Prenota ora la tua visita o scrivici per maggiori informazioni:\n📬 ordini@lacascinacornaredo.it\n📞 349/6086848 \n👉 Non perderti questa occasione: porta i tuoi bambini o la tua classe alla scoperta della vita in cascina! \n \n 
URL:https://lacascinacornaredo.it/evento/fattoria-didattica-orto-felice-7/
ATTACH;FMTTYPE=image/jpeg:https://lacascinacornaredo.it/wp-content/uploads/2026/03/orto-felice2026.jpg
END:VEVENT
END:VCALENDAR